BEGIN:VCALENDAR
VERSION:2.0
PRODID:-//eventon.com NONSGML v1.0//EN
CALSCALE:GREGORIAN
METHOD:PUBLISH
BEGIN:VEVENT
UID:69ece7f72cfbc
DTSTAMP:20260425T161239Z
DTSTART:20240614T110000Z
DTEND:20240614T210000Z
LOCATION:PARNAÍBA - PIAUÍ
SUMMARY:Acompanhamento das Ações do Programa OPA em Parnaíba acompanhado do Secretário de Governo Marcelo Noleto.
DESCRIPTION:\nhttps://www.seplan.pi.gov.br/events/acompanhamento-das-acoes-
 do-programa-opa-em-parnaiba-acompanhado-do-secretario-de-governo-marcelo-no
 leto-2/
URL:https://www.seplan.pi.gov.br/events/acompanhamento-das-acoes-do-programa-opa-em-parnaiba-acompanhado-do-secretario-de-governo-marcelo-noleto-2/
END:VEVENT
END:VCALENDAR