BEGIN:VCALENDAR
VERSION:2.0
PRODID:-//eventon.com NONSGML v1.0//EN
CALSCALE:GREGORIAN
METHOD:PUBLISH
BEGIN:VEVENT
UID:69e74e2793c2d
DTSTAMP:20260421T101503Z
DTSTART:20240507T150000Z
DTEND:20240507T163000Z
LOCATION:Palácio de Karnak
SUMMARY:Lançamento do Observatório de Dados do Piauí(OBPI).
DESCRIPTION:\nhttps://www.seplan.pi.gov.br/events/lancamento-do-observatori
 o-de-dados-do-piauioapi/
URL:https://www.seplan.pi.gov.br/events/lancamento-do-observatorio-de-dados-do-piauioapi/
END:VEVENT
END:VCALENDAR