BEGIN:VCALENDAR
VERSION:2.0
PRODID:-//eventon.com NONSGML v1.0//EN
CALSCALE:GREGORIAN
METHOD:PUBLISH
BEGIN:VEVENT
UID:69eb2b4c8f600
DTSTAMP:20260424T083524Z
DTSTART:20240520T103000Z
DTEND:20240520T150000Z
LOCATION:Federação das Indústrias do Estado do Piauí (FIEPI) Av. Industrial Gil Martins - Teresina - PI\,  6400-260
SUMMARY:Evento do G20 Social
DESCRIPTION:\nhttps://www.seplan.pi.gov.br/events/evento-do-g20-social/
URL:https://www.seplan.pi.gov.br/events/evento-do-g20-social/
END:VEVENT
END:VCALENDAR