BEGIN:VCALENDAR
VERSION:2.0
PRODID:-//eventon.com NONSGML v1.0//EN
CALSCALE:GREGORIAN
METHOD:PUBLISH
BEGIN:VEVENT
UID:69e5e04193d53
DTSTAMP:20260420T081353Z
DTSTART:20240521T103000Z
DTEND:20240521T113000Z
LOCATION:Secretaria do Planejamento do Estado do Piauí - SEPLAN
SUMMARY:Reunião com Bruno Casanova(SUMER)
DESCRIPTION:\nhttps://www.seplan.pi.gov.br/events/reuniao-com-bruno-casanov
 asumer/
URL:https://www.seplan.pi.gov.br/events/reuniao-com-bruno-casanovasumer/
END:VEVENT
END:VCALENDAR