BEGIN:VCALENDAR
VERSION:2.0
PRODID:-//eventon.com NONSGML v1.0//EN
CALSCALE:GREGORIAN
METHOD:PUBLISH
BEGIN:VEVENT
UID:69e74e2800805
DTSTAMP:20260421T101504Z
DTSTART:20240523T170000Z
DTEND:20240523T180000Z
LOCATION:DIJUR
SUMMARY:Reunião de Governança - ETIPI
DESCRIPTION:\nhttps://www.seplan.pi.gov.br/events/reuniao-de-governanca-eti
 pi/
URL:https://www.seplan.pi.gov.br/events/reuniao-de-governanca-etipi/
END:VEVENT
END:VCALENDAR