BEGIN:VCALENDAR
VERSION:2.0
PRODID:-//eventon.com NONSGML v1.0//EN
CALSCALE:GREGORIAN
METHOD:PUBLISH
BEGIN:VEVENT
UID:69e5bf54cbf53
DTSTAMP:20260420T055324Z
DTSTART:20240603T123000Z
DTEND:20240603T133000Z
LOCATION:Secretaria do Planejamento do Estado do Piauí - SEPLAN
SUMMARY:Reunião com Super. Adrianne e Ênia Meneses
DESCRIPTION:\nhttps://www.seplan.pi.gov.br/events/reuniao-com-super-adriann
 e-e-enia-meneses/
URL:https://www.seplan.pi.gov.br/events/reuniao-com-super-adrianne-e-enia-meneses/
END:VEVENT
END:VCALENDAR