BEGIN:VCALENDAR
VERSION:2.0
PRODID:-//eventon.com NONSGML v1.0//EN
CALSCALE:GREGORIAN
METHOD:PUBLISH
BEGIN:VEVENT
UID:69ec29aa7e499
DTSTAMP:20260425T024042Z
DTSTART:20240605T170000Z
DTEND:20240605T200000Z
LOCATION:Centro de Convenções de Teresina - Piauí
SUMMARY:Evento Conferência Internacional de Tecnologia das Energias Renováveis.
DESCRIPTION:\nhttps://www.seplan.pi.gov.br/events/evento-conferencia-intern
 acional-de-tecnologia-das-energias-renovaveis/
URL:https://www.seplan.pi.gov.br/events/evento-conferencia-internacional-de-tecnologia-das-energias-renovaveis/
END:VEVENT
END:VCALENDAR